BEGIN:VCALENDAR
VERSION:2.0
PRODID:-//hacksw/handcal//NONSGML v1.0//EN
BEGIN:VEVENT
DTSTART:20200213T150000
DTEND:20200213T170000
LOCATION:Mbway Angers   \n19 rue André lenôtre  \n49000 Angers
ORGANIZER;CN=Justine Morel:MAILTO:justine.morel@mbway.com
SUMMARY:Angers - conférence Le métier d'Infleunceur
DESCRIPTION:Le Campus MBway Angers reçoit: Albane Thommeret : blogueuse & instagrameuse professionnelle qui vient vous présenter la réalité de son métier. 
URL:https://www.mbway-alumni.com/fr/event/angers-conference-le-metier-d-infleunceur/2020/02/13/49
BEGIN:VALARM
TRIGGER:-P0DT1H0M0S
ACTION:DISPLAY
END:VALARM
END:VEVENT
END:VCALENDAR