BEGIN:VCALENDAR
VERSION:2.0
PRODID:-//hacksw/handcal//NONSGML v1.0//EN
BEGIN:VEVENT
DTSTART:20200304T140000
DTEND:20200304T160000
LOCATION:Campus MBway Strasbourg \n15 rue des magasins \n67000 Strasbourg
ORGANIZER;CN=Brice BUCHER:MAILTO:brice.bucher@cie-formation.com
SUMMARY:Réunion d'Information
DESCRIPTION:\n
URL:https://www.mbway-alumni.com/fr/event/reunion-d-information/2020/03/04/54
BEGIN:VALARM
TRIGGER:-P0DT1H0M0S
ACTION:DISPLAY
END:VALARM
END:VEVENT
END:VCALENDAR